BEGIN:VCALENDAR
VERSION:2.0
PRODID:-//jEvents 2.0 for Joomla//EN
CALSCALE:GREGORIAN
METHOD:PUBLISH
BEGIN:VTIMEZONE
TZID:America/New_York
BEGIN:STANDARD
DTSTART:20251102T010000
RDATE:20260308T030000
TZOFFSETFROM:-0400
TZOFFSETTO:-0500
TZNAME:America/New_York EST
END:STANDARD
BEGIN:STANDARD
DTSTART:20261101T010000
RDATE:20270314T030000
TZOFFSETFROM:-0400
TZOFFSETTO:-0500
TZNAME:America/New_York EST
END:STANDARD
BEGIN:STANDARD
DTSTART:20271107T010000
RDATE:20280312T030000
TZOFFSETFROM:-0400
TZOFFSETTO:-0500
TZNAME:America/New_York EST
END:STANDARD
BEGIN:STANDARD
DTSTART:20281105T010000
RDATE:20290311T030000
TZOFFSETFROM:-0400
TZOFFSETTO:-0500
TZNAME:America/New_York EST
END:STANDARD
BEGIN:DAYLIGHT
DTSTART:20250503T121500
RDATE:20251102T010000
TZOFFSETFROM:-0500
TZOFFSETTO:-0400
TZNAME:America/New_York EDT
END:DAYLIGHT
BEGIN:DAYLIGHT
DTSTART:20260308T030000
RDATE:20261101T010000
TZOFFSETFROM:-0500
TZOFFSETTO:-0400
TZNAME:America/New_York EDT
END:DAYLIGHT
BEGIN:DAYLIGHT
DTSTART:20270314T030000
RDATE:20271107T010000
TZOFFSETFROM:-0500
TZOFFSETTO:-0400
TZNAME:America/New_York EDT
END:DAYLIGHT
BEGIN:DAYLIGHT
DTSTART:20280312T030000
RDATE:20281105T010000
TZOFFSETFROM:-0500
TZOFFSETTO:-0400
TZNAME:America/New_York EDT
END:DAYLIGHT
END:VTIMEZONE
BEGIN:VEVENT
UID:f4fcdc1dbf9363eb9949ad7124c4bdf5
CATEGORIES:Pa. Dementia Friends Information Session
CREATED:20260416T104344
SUMMARY:Dementia Friends Information Session
LOCATION:Juniata Valley YMCA
DESCRIPTION;ENCODING=QUOTED-PRINTABLE:<p>Please join us for this interactive 60-minute information session to lea
 rn about living with dementia and the small things you can do to show suppo
 rt to others. Q&amp;A and light refreshments will follow the session. We ar
 e committed to painting Central PA purple for dementia awareness!<br /><br 
 /></p><p>This event is FREE but RSVP is required! Reserve your spot by call
 ing 717-935-2105 by Wed, 4/29</p>
CONTACT:Geli Losch
DTSTAMP:20260421T060301Z
DTSTART;TZID=America/New_York:20260504T121500
DTEND;TZID=America/New_York:20260504T133000
SEQUENCE:0
TRANSP:OPAQUE
END:VEVENT
END:VCALENDAR