BEGIN:VCALENDAR
VERSION:2.0
PRODID:-//jEvents 2.0 for Joomla//EN
CALSCALE:GREGORIAN
METHOD:PUBLISH
BEGIN:VTIMEZONE
TZID:America/New_York
BEGIN:STANDARD
DTSTART:20251102T010000
RDATE:20260308T030000
TZOFFSETFROM:-0400
TZOFFSETTO:-0500
TZNAME:America/New_York EST
END:STANDARD
BEGIN:STANDARD
DTSTART:20261101T010000
RDATE:20270314T030000
TZOFFSETFROM:-0400
TZOFFSETTO:-0500
TZNAME:America/New_York EST
END:STANDARD
BEGIN:STANDARD
DTSTART:20271107T010000
RDATE:20280312T030000
TZOFFSETFROM:-0400
TZOFFSETTO:-0500
TZNAME:America/New_York EST
END:STANDARD
BEGIN:STANDARD
DTSTART:20281105T010000
RDATE:20290311T030000
TZOFFSETFROM:-0400
TZOFFSETTO:-0500
TZNAME:America/New_York EST
END:STANDARD
BEGIN:DAYLIGHT
DTSTART:20250421T130000
RDATE:20251102T010000
TZOFFSETFROM:-0500
TZOFFSETTO:-0400
TZNAME:America/New_York EDT
END:DAYLIGHT
BEGIN:DAYLIGHT
DTSTART:20260308T030000
RDATE:20261101T010000
TZOFFSETFROM:-0500
TZOFFSETTO:-0400
TZNAME:America/New_York EDT
END:DAYLIGHT
BEGIN:DAYLIGHT
DTSTART:20270314T030000
RDATE:20271107T010000
TZOFFSETFROM:-0500
TZOFFSETTO:-0400
TZNAME:America/New_York EDT
END:DAYLIGHT
BEGIN:DAYLIGHT
DTSTART:20280312T030000
RDATE:20281105T010000
TZOFFSETFROM:-0500
TZOFFSETTO:-0400
TZNAME:America/New_York EDT
END:DAYLIGHT
END:VTIMEZONE
BEGIN:VEVENT
UID:06469e2058582308e48cc8f957dcf552
CATEGORIES:Pa. Dementia Friends Information Session
CREATED:20260318T150237
SUMMARY:Dementia Friends Information Session *WellSpan Hospice Only*
LOCATION:WellSpan Hospice
DESCRIPTION;ENCODING=QUOTED-PRINTABLE:<p><span style="text-decoration: underline;"><strong>This is a private sess
 ion is for WellSpan Hospice only!</strong></span></p><p>If you are a volunt
 eer or employee with WellSpan Hospice, please register below to become a De
 mentia Friend. </p><p>Wednesday, April 22 1:00 to 2:15 pm at 235 Hospital D
 rive, Lewisburg PA </p><p> </p>
CONTACT:Taryn Wilk
DTSTAMP:20260421T055148Z
DTSTART;TZID=America/New_York:20260422T130000
DTEND;TZID=America/New_York:20260422T141500
SEQUENCE:0
TRANSP:OPAQUE
END:VEVENT
END:VCALENDAR